2.4
0
0
-2.4
644850.0
4925250.0
