100.0000000000
0.0000000000
0.0000000000
-100.0000000000
450025.7500000000
4110004.0000000000
