0.03746047
0
0
-0.04304197
-42.9016
-13.93241
