3.8618319375554164
0.0
0.0
3.861681556251123
748722.1285067874
4268622.4
